BEGIN:VCALENDAR
VERSION:2.0
PRODID:-//wp-events-plugin.com//7.2.3.1//EN
BEGIN:VEVENT
UID:1435@paddeln-buxtehude.de
DTSTART:20191116T163000Z
DTEND:20191116T180000Z
DTSTAMP:20190909T161636Z
URL:https://www.paddeln-buxtehude.de/events/1715-sicherheitstraining-12/
SUMMARY:17:15 Sicherheitstraining
DESCRIPTION:Der BKV bietet auch in der Wintersaison 2019/2020 ein regelmä
 ßiges Sicherheitstraining im Buxtehuder Hallenbad „Aquarella“ an. Wir
  treffen uns gegen 17:15 Uhr zum Abladen der Boote\, Einlass ist um 17:30 
 Uhr.\n\nBei dem Sicherheitstraining üben wir in der Zeit von 17:30 Uhr (E
 inlass) bis 19:00 Uhr paddeltypische Situationen mit unseren jugendlichen 
 und erwachsenen Mitgliedern:\n\n 	Kentern und Aussteigen unter Wasser\n 	W
 iedereinstieg in ein gekentertes Boot\n 	Ein- und Aussteigen am hohen Ufer
  (simuliert durch ein Holzpodest)\n 	Eskimotieren mit verschiedenen Metho
 den\n 	Richtige Handhabung des Wurfsackes\n 	Kleiderschwimmen\n 	Seitliche
 s Versetzen des Bootes mit dem Ziehschlag / Wriggen\n\nAußerdem üben auc
 h unsere Polospieler.\n\nWir treffen uns dazu eine Viertelstunde vorher am
  Eingang des Aquarella und betreten gemeinsam das Hallenbad. Hilfreiche H
 ände langen in der Zwischenzeit unsere Boote durch den Technikraum hindur
 ch in die Halle.\n\nMitzubringen sind Badekleidung und -ausrüstung\, der 
 Spaß kommt von allein.\n\nDer Ansprechpartner für diesen Termin ist Matt
 hias Raabe.\n\nGäste sind nach Anmeldung  per Mail bei Matthias (anma.ra
 abe@t-online.de) herzlich willkommen.
CATEGORIES:Ausbildung,Jugend-Polo,Jugendtraining
LOCATION:Aquarella Buxtehude\, Konopkastraße 4\, Buxtehude\, Niedersachsen
 \, 21614\, Deutschland
GEO:53.47592;9.69446
X-APPLE-STRUCTURED-LOCATION;VALUE=URI;X-ADDRESS=Konopkastraße 4\, Buxtehud
 e\, Niedersachsen\, 21614\, Deutschland;X-APPLE-RADIUS=100;X-TITLE=Aquarel
 la Buxtehude:geo:53.47592,9.69446
END:VEVENT
END:VCALENDAR