BEGIN:VCALENDAR
VERSION:2.0
PRODID:-//wp-events-plugin.com//7.2.3.1//EN
BEGIN:VEVENT
UID:1388@paddeln-buxtehude.de
DTSTART:20190424T183000Z
DTEND:20190424T200000Z
DTSTAMP:20190120T132518Z
URL:https://www.paddeln-buxtehude.de/events/1930-paddlerversammlung-16/
SUMMARY:19:30 Paddlerversammlung
DESCRIPTION:Vorbesprechung für das Arbeiten und Grillen und der Tagestoure
 n bis zur nächsten Paddlerversammlung
CATEGORIES:Versammlung
LOCATION:Sporthaus am Jahnstadion\, An der Rennbahn\, Buxtehude\, 21614\, D
 eutschland
GEO:53.4664446;9.683909699999958
X-APPLE-STRUCTURED-LOCATION;VALUE=URI;X-ADDRESS=An der Rennbahn\, Buxtehude
 \, 21614\, Deutschland;X-APPLE-RADIUS=100;X-TITLE=Sporthaus am Jahnstadion
 :geo:53.4664446,9.683909699999958
END:VEVENT
END:VCALENDAR