BEGIN:VCALENDAR
VERSION:2.0
PRODID:-//wp-events-plugin.com//7.2.3.1//EN
BEGIN:VEVENT
UID:1848@paddeln-buxtehude.de
DTSTART;TZID=Europe/Berlin:20240602T080000
DTEND;TZID=Europe/Berlin:20240602T160000
DTSTAMP:20240521T104138Z
URL:https://www.paddeln-buxtehude.de/events/tagestour-luhe-2/
SUMMARY:Tagestour Luhe
DESCRIPTION:BKV-Tagestour Luhe / Wetzen - Luhdorf\n\nWir treffen uns schon 
 um 8:00 Uhr zum Verladen der Boote am Bootshaus um hoffentlich vor den Ver
 leihern auf dem Wasser zu sein. Um 8:30 Uhr ist Abfahrt.\n\nAnmeldung bis 
 zum 31.05. bei Niklas per Whats App oder SMS unter 0170 8279019\n\n\nGebt 
 bitte bei der Anmeldung an\, ob ihr ein Vereinsboot (mit Namen des Bootes)
  benötigt.
CATEGORIES:Tagesfahrt
LOCATION:Bootshaus BKV\, Ferdinandstr. / Stader Str. \, Buxtehude\, 21614\,
  Deutschland
GEO:53.46931253847756;9.69367692124024
X-APPLE-STRUCTURED-LOCATION;VALUE=URI;X-ADDRESS=Ferdinandstr. / Stader Str.
  \, Buxtehude\, 21614\, Deutschland;X-APPLE-RADIUS=100;X-TITLE=Bootshaus B
 KV:geo:53.46931253847756,9.69367692124024
END:VEVENT
BEGIN:VTIMEZONE
TZID:Europe/Berlin
X-LIC-LOCATION:Europe/Berlin
BEGIN:DAYLIGHT
DTSTART:20240331T030000
TZOFFSETFROM:+0100
TZOFFSETTO:+0200
TZNAME:CEST
END:DAYLIGHT
END:VTIMEZONE
END:VCALENDAR